BEGIN:VCALENDAR
VERSION:2.0
PRODID:-//VicRally - ECPv4.8.1//NONSGML v1.0//EN
CALSCALE:GREGORIAN
METHOD:PUBLISH
X-WR-CALNAME:VicRally
X-ORIGINAL-URL:https://www.vicrally.com.au
X-WR-CALDESC:Events for VicRally
BEGIN:VEVENT
DTSTART;VALUE=DATE:20190302
DTEND;VALUE=DATE:20190303
DTSTAMP:20190228T170237
CREATED:20190116T115146Z
LAST-MODIFIED:20190116T115159Z
UID:3913-1551484800-1551571199@www.vicrally.com.au
SUMMARY:Mitta Mountain Rally
DESCRIPTION:This Event this year is Round 1 of the 2019 Victorian Rally Championship\, Round 1 of the NSW Rally Championship and Round 1 of the East Coast Classic Rally Series. It will be held on Saturday 2 March 2019 based at Mitta Mitta an hour’s drive south east of Albury/Wodonga in north eastern Victoria. It also includes a separate event – the 2019 Mitta Masters; catering for just classic cars; over thirty years old\, and recognising the most successful classic drivers and co-drivers in their 50’s\, 60’s and over 70’s. The Mitta masters is run as a Multi Club event and will also form part of the 2019 HRA Rally Championship. \nThe event will be blind\, with only five stages of 14-55 km distance each\, totalling more than 135 km with no repeats\, looping out of the small town of Mitta Mitta located in North Eastern Victoria. \nThe Multi-Purpose Centre at the Mitta Recreation Reserve will again provide an excellent dining and relaxation hub for the Service Park. The Bar and café will be operated by local volunteers\, open Friday night for dinner\, coffee and beverages\, then Saturday for breakfast and lunch through the day\, as well as Sunday morning for breakfast before heading home. Servicing will take place on the adjacent fairway of the first hole of the local golf course. Spectators will be catered for by walk-in points at the end of three of the five stages. \nResults will be final on the day\, so the trophy presentation will take place Saturday night at the Dartmouth Pub. A bus will be provided to and from Mitta for those staying close to the rally base. \nThere is plenty of basic accommodation in the valley; taking in Eskdale and the former dam construction village of Dartmouth\, both only 15 km from Mitta Mitta. March will provide good camping weather in the serviced park or the adjacent caravan park. \n\n\nDocuments\nEntry List\nSpectator Info\nOfficials\nResults\n\n\nDocuments\nSupp Regs\nEntry Form (Online)\nEntry List\nEntry List available after close of entries\nSpectator Info\nSpectator Guide available in the week prior\nHard copies also available from the event on the day\nOfficials\nEvents always need volunteers. Please contact the Officials Co-ordinator Terry Naish to help at the rally.\nResults\nLive Results Here\n\n\n
URL:https://www.vicrally.com.au/event/mitta-mountain-rally-2019/
LOCATION:Mitta Mitta Recreation Reserve\, 1778 Mitta North Road\, Mitta Mitta\, Victoria\, 3701\, Australia
GEO:-36.532275;147.373325
X-APPLE-STRUCTURED-LOCATION;VALUE=URI;X-ADDRESS=Mitta Mitta Recreation Reserve 1778 Mitta North Road Mitta Mitta Victoria 3701 Australia;X-APPLE-RADIUS=500;X-TITLE=1778 Mitta North Road:geo:147.373325,-36.532275
CATEGORIES:VRC
END:VEVENT
BEGIN:VEVENT
DTSTART;VALUE=DATE:20190323
DTEND;VALUE=DATE:20190324
DTSTAMP:20190228T170237
CREATED:20190209T031904Z
LAST-MODIFIED:20190209T031904Z
UID:3947-1553299200-1553385599@www.vicrally.com.au
SUMMARY:Wellsford Wander
DESCRIPTION:The Wellsford Wander Rally is a new event\, a Special Stage rally\, based in Axedale & run in daylight. The event will be using mainly the roads that were traversed in the Magical Ironbark (at road speeds). The event is being run as a ‘no frills’ event and is restricted to 2WD & Standard Car Challenge cars. The event is very car friendly and not using any grotty tracks. This will be the only event for 2019 that you do not need a HANS/FHR device to compete. \nThere are two loops of 30km\, with  a short service in between\, for a total of 60km competitive. The event is very compact & service crews can spectate as well as service. \n\n\nDocuments\nEntry List\nSpectator Info\nOfficials\nResults\n\n\nDocuments\nSupp Regs\nEntry Form \n\nEntry List\nEntry List available after entries close\nSpectator Info\nSpectator Information available from the event.\nOfficials\nPlease contact the Officials Co-ordinator to help at the rally.\nResults\nResults available 1-2 days after event is finished\n\n
URL:https://www.vicrally.com.au/event/wellsford-wander/
LOCATION:Axedale Public Hall\, High Street\, Axedale\, Victoria\, 3551\, Australia
GEO:-36.787807;144.504021
X-APPLE-STRUCTURED-LOCATION;VALUE=URI;X-ADDRESS=Axedale Public Hall High Street Axedale Victoria 3551 Australia;X-APPLE-RADIUS=500;X-TITLE=High Street:geo:144.504021,-36.787807
END:VEVENT
BEGIN:VEVENT
DTSTART;VALUE=DATE:20190331
DTEND;VALUE=DATE:20190401
DTSTAMP:20190228T170237
CREATED:20190223T224714Z
LAST-MODIFIED:20190224T000628Z
UID:3953-1553990400-1554076799@www.vicrally.com.au
SUMMARY:Ada River Rally
DESCRIPTION:The 2019 Ada River Rally is Round 2 of the Hino Geelong Victorian Rally Championship and Round 1 of the Victorian Club Rally Series. Approx. 167km competitive (VCRS crews will do approx 130km competitive) \nPace noted\, with recce Sat and rally on Sunday. VCRS crews will run fully route-charted\, all daylight.\nBased out of Wesburn Park\, less than an hour’s drive for most Melbourne competitors\, and using some of the best roads in the Yarra State Forest \n\n\nDocuments\nEntry List\nSpectator Info\nOfficials\nResults\n\n\nDocuments\nSupp Regs \nOnline Entry Form\nEntry List\nEntry List will be made available at close of entries\nSpectator Info\nUpdated Spectator Information available closer to the event\nOfficials\nPlease contact the Officials Co-ordinator to help at the rally. Brian Semmens 0417 100 420 or wdccrally@gmail.com\nResults\nLive Results here\n\n\n
URL:https://www.vicrally.com.au/event/ada-river-rally-2019/
LOCATION:Wesburn Park\, 2804B Warburton Highway\, Wesburn\, Victoria\, 3799\, Australia
GEO:-37.7734673;145.6462813
X-APPLE-STRUCTURED-LOCATION;VALUE=URI;X-ADDRESS=Wesburn Park 2804B Warburton Highway Wesburn Victoria 3799 Australia;X-APPLE-RADIUS=500;X-TITLE=2804B Warburton Highway:geo:145.6462813,-37.7734673
CATEGORIES:VCRS,VRC
END:VEVENT
END:VCALENDAR